BEGIN:VCALENDAR
VERSION:2.0
PRODID:-//The Believers Worship Center - ECPv6.11.0.1//NONSGML v1.0//EN
CALSCALE:GREGORIAN
METHOD:PUBLISH
X-WR-CALNAME:The Believers Worship Center
X-ORIGINAL-URL:https://thebelieversworshipcenter.org
X-WR-CALDESC:Events for The Believers Worship Center
REFRESH-INTERVAL;VALUE=DURATION:PT1H
X-Robots-Tag:noindex
X-PUBLISHED-TTL:PT1H
BEGIN:VTIMEZONE
TZID:UTC
BEGIN:STANDARD
TZOFFSETFROM:+0000
TZOFFSETTO:+0000
TZNAME:UTC
DTSTART:20270101T000000
END:STANDARD
END:VTIMEZONE
BEGIN:VEVENT
DTSTART;TZID=UTC:20270207T100000
DTEND;TZID=UTC:20270207T120000
DTSTAMP:20260423T150714
CREATED:20241201T033832Z
LAST-MODIFIED:20251215T180800Z
UID:10000901-1801994400-1802001600@thebelieversworshipcenter.org
SUMMARY:Sunday Services
DESCRIPTION:Join us for our Sunday service at 10:00 am at Dr. Henry A. Wise Jr\, High School\, 12650 Brooke Lane\, Upper Marlboro\, MD 20772.
URL:https://thebelieversworshipcenter.org/event/sunday-services/2027-02-07/
CATEGORIES:Worship
ATTACH;FMTTYPE=:
END:VEVENT
BEGIN:VEVENT
DTSTART;TZID=UTC:20270214T100000
DTEND;TZID=UTC:20270214T120000
DTSTAMP:20260423T150714
CREATED:20241201T033832Z
LAST-MODIFIED:20251215T180800Z
UID:10000902-1802599200-1802606400@thebelieversworshipcenter.org
SUMMARY:Sunday Services
DESCRIPTION:Join us for our Sunday service at 10:00 am at Dr. Henry A. Wise Jr\, High School\, 12650 Brooke Lane\, Upper Marlboro\, MD 20772.
URL:https://thebelieversworshipcenter.org/event/sunday-services/2027-02-14/
CATEGORIES:Worship
ATTACH;FMTTYPE=:
END:VEVENT
BEGIN:VEVENT
DTSTART;TZID=UTC:20270221T100000
DTEND;TZID=UTC:20270221T120000
DTSTAMP:20260423T150714
CREATED:20241201T033832Z
LAST-MODIFIED:20251215T180800Z
UID:10000903-1803204000-1803211200@thebelieversworshipcenter.org
SUMMARY:Sunday Services
DESCRIPTION:Join us for our Sunday service at 10:00 am at Dr. Henry A. Wise Jr\, High School\, 12650 Brooke Lane\, Upper Marlboro\, MD 20772.
URL:https://thebelieversworshipcenter.org/event/sunday-services/2027-02-21/
CATEGORIES:Worship
ATTACH;FMTTYPE=:
END:VEVENT
BEGIN:VEVENT
DTSTART;TZID=UTC:20270228T100000
DTEND;TZID=UTC:20270228T120000
DTSTAMP:20260423T150714
CREATED:20241201T033832Z
LAST-MODIFIED:20251215T180800Z
UID:10000904-1803808800-1803816000@thebelieversworshipcenter.org
SUMMARY:Sunday Services
DESCRIPTION:Join us for our Sunday service at 10:00 am at Dr. Henry A. Wise Jr\, High School\, 12650 Brooke Lane\, Upper Marlboro\, MD 20772.
URL:https://thebelieversworshipcenter.org/event/sunday-services/2027-02-28/
CATEGORIES:Worship
ATTACH;FMTTYPE=:
END:VEVENT
END:VCALENDAR