BEGIN:VCALENDAR
VERSION:2.0
PRODID:-//The Believers Worship Center - ECPv6.11.0.1//NONSGML v1.0//EN
CALSCALE:GREGORIAN
METHOD:PUBLISH
X-ORIGINAL-URL:https://thebelieversworshipcenter.org
X-WR-CALDESC:Events for The Believers Worship Center
REFRESH-INTERVAL;VALUE=DURATION:PT1H
X-Robots-Tag:noindex
X-PUBLISHED-TTL:PT1H
BEGIN:VTIMEZONE
TZID:UTC
BEGIN:STANDARD
TZOFFSETFROM:+0000
TZOFFSETTO:+0000
TZNAME:UTC
DTSTART:20260101T000000
END:STANDARD
END:VTIMEZONE
BEGIN:VEVENT
DTSTART;TZID=UTC:20261101T100000
DTEND;TZID=UTC:20261101T120000
DTSTAMP:20260423T055158
CREATED:20241201T033832Z
LAST-MODIFIED:20251215T180800Z
UID:10000887-1793527200-1793534400@thebelieversworshipcenter.org
SUMMARY:Sunday Services
DESCRIPTION:Join us for our Sunday service at 10:00 am at Dr. Henry A. Wise Jr\, High School\, 12650 Brooke Lane\, Upper Marlboro\, MD 20772.
URL:https://thebelieversworshipcenter.org/event/sunday-services/2026-11-01/
CATEGORIES:Worship
ATTACH;FMTTYPE=:
END:VEVENT
BEGIN:VEVENT
DTSTART;TZID=UTC:20261108T100000
DTEND;TZID=UTC:20261108T120000
DTSTAMP:20260423T055158
CREATED:20241201T033832Z
LAST-MODIFIED:20251215T180800Z
UID:10000888-1794132000-1794139200@thebelieversworshipcenter.org
SUMMARY:Sunday Services
DESCRIPTION:Join us for our Sunday service at 10:00 am at Dr. Henry A. Wise Jr\, High School\, 12650 Brooke Lane\, Upper Marlboro\, MD 20772.
URL:https://thebelieversworshipcenter.org/event/sunday-services/2026-11-08/
CATEGORIES:Worship
ATTACH;FMTTYPE=:
END:VEVENT
BEGIN:VEVENT
DTSTART;TZID=UTC:20261115T100000
DTEND;TZID=UTC:20261115T120000
DTSTAMP:20260423T055158
CREATED:20241201T033832Z
LAST-MODIFIED:20251215T180800Z
UID:10000889-1794736800-1794744000@thebelieversworshipcenter.org
SUMMARY:Sunday Services
DESCRIPTION:Join us for our Sunday service at 10:00 am at Dr. Henry A. Wise Jr\, High School\, 12650 Brooke Lane\, Upper Marlboro\, MD 20772.
URL:https://thebelieversworshipcenter.org/event/sunday-services/2026-11-15/
CATEGORIES:Worship
ATTACH;FMTTYPE=:
END:VEVENT
BEGIN:VEVENT
DTSTART;TZID=UTC:20261122T100000
DTEND;TZID=UTC:20261122T120000
DTSTAMP:20260423T055158
CREATED:20241201T033832Z
LAST-MODIFIED:20251215T180800Z
UID:10000890-1795341600-1795348800@thebelieversworshipcenter.org
SUMMARY:Sunday Services
DESCRIPTION:Join us for our Sunday service at 10:00 am at Dr. Henry A. Wise Jr\, High School\, 12650 Brooke Lane\, Upper Marlboro\, MD 20772.
URL:https://thebelieversworshipcenter.org/event/sunday-services/2026-11-22/
CATEGORIES:Worship
ATTACH;FMTTYPE=:
END:VEVENT
BEGIN:VEVENT
DTSTART;TZID=UTC:20261129T100000
DTEND;TZID=UTC:20261129T120000
DTSTAMP:20260423T055158
CREATED:20241201T033832Z
LAST-MODIFIED:20251215T180800Z
UID:10000891-1795946400-1795953600@thebelieversworshipcenter.org
SUMMARY:Sunday Services
DESCRIPTION:Join us for our Sunday service at 10:00 am at Dr. Henry A. Wise Jr\, High School\, 12650 Brooke Lane\, Upper Marlboro\, MD 20772.
URL:https://thebelieversworshipcenter.org/event/sunday-services/2026-11-29/
CATEGORIES:Worship
ATTACH;FMTTYPE=:
END:VEVENT
END:VCALENDAR