BEGIN:VCALENDAR
VERSION:2.0
PRODID:-//The Believers Worship Center - ECPv6.11.0.1//NONSGML v1.0//EN
CALSCALE:GREGORIAN
METHOD:PUBLISH
X-WR-CALNAME:The Believers Worship Center
X-ORIGINAL-URL:https://thebelieversworshipcenter.org
X-WR-CALDESC:Events for The Believers Worship Center
REFRESH-INTERVAL;VALUE=DURATION:PT1H
X-Robots-Tag:noindex
X-PUBLISHED-TTL:PT1H
BEGIN:VTIMEZONE
TZID:UTC
BEGIN:STANDARD
TZOFFSETFROM:+0000
TZOFFSETTO:+0000
TZNAME:UTC
DTSTART:20250101T000000
END:STANDARD
END:VTIMEZONE
BEGIN:VEVENT
DTSTART;TZID=UTC:20251102T100000
DTEND;TZID=UTC:20251102T120000
DTSTAMP:20260421T044418
CREATED:20241201T033832Z
LAST-MODIFIED:20251215T180800Z
UID:10000835-1762077600-1762084800@thebelieversworshipcenter.org
SUMMARY:Sunday Services
DESCRIPTION:Join us for our Sunday service at 10:00 am at Dr. Henry A. Wise Jr\, High School\, 12650 Brooke Lane\, Upper Marlboro\, MD 20772.
URL:https://thebelieversworshipcenter.org/event/sunday-services/2025-11-02/
CATEGORIES:Worship
ATTACH;FMTTYPE=:
END:VEVENT
BEGIN:VEVENT
DTSTART;TZID=UTC:20251109T100000
DTEND;TZID=UTC:20251109T120000
DTSTAMP:20260421T044418
CREATED:20241201T033832Z
LAST-MODIFIED:20251215T180800Z
UID:10000836-1762682400-1762689600@thebelieversworshipcenter.org
SUMMARY:Sunday Services
DESCRIPTION:Join us for our Sunday service at 10:00 am at Dr. Henry A. Wise Jr\, High School\, 12650 Brooke Lane\, Upper Marlboro\, MD 20772.
URL:https://thebelieversworshipcenter.org/event/sunday-services/2025-11-09/
CATEGORIES:Worship
ATTACH;FMTTYPE=:
END:VEVENT
BEGIN:VEVENT
DTSTART;TZID=UTC:20251116T100000
DTEND;TZID=UTC:20251116T120000
DTSTAMP:20260421T044418
CREATED:20241201T033832Z
LAST-MODIFIED:20251215T180800Z
UID:10000837-1763287200-1763294400@thebelieversworshipcenter.org
SUMMARY:Sunday Services
DESCRIPTION:Join us for our Sunday service at 10:00 am at Dr. Henry A. Wise Jr\, High School\, 12650 Brooke Lane\, Upper Marlboro\, MD 20772.
URL:https://thebelieversworshipcenter.org/event/sunday-services/2025-11-16/
CATEGORIES:Worship
ATTACH;FMTTYPE=:
END:VEVENT
BEGIN:VEVENT
DTSTART;TZID=UTC:20251123T100000
DTEND;TZID=UTC:20251123T120000
DTSTAMP:20260421T044418
CREATED:20241201T033832Z
LAST-MODIFIED:20251215T180800Z
UID:10000838-1763892000-1763899200@thebelieversworshipcenter.org
SUMMARY:Sunday Services
DESCRIPTION:Join us for our Sunday service at 10:00 am at Dr. Henry A. Wise Jr\, High School\, 12650 Brooke Lane\, Upper Marlboro\, MD 20772.
URL:https://thebelieversworshipcenter.org/event/sunday-services/2025-11-23/
CATEGORIES:Worship
ATTACH;FMTTYPE=:
END:VEVENT
BEGIN:VEVENT
DTSTART;TZID=UTC:20251130T100000
DTEND;TZID=UTC:20251130T120000
DTSTAMP:20260421T044418
CREATED:20241201T033832Z
LAST-MODIFIED:20251215T180800Z
UID:10000839-1764496800-1764504000@thebelieversworshipcenter.org
SUMMARY:Sunday Services
DESCRIPTION:Join us for our Sunday service at 10:00 am at Dr. Henry A. Wise Jr\, High School\, 12650 Brooke Lane\, Upper Marlboro\, MD 20772.
URL:https://thebelieversworshipcenter.org/event/sunday-services/2025-11-30/
CATEGORIES:Worship
ATTACH;FMTTYPE=:
END:VEVENT
END:VCALENDAR