BEGIN:VCALENDAR
VERSION:2.0
PRODID:-//The Believers Worship Center - ECPv6.11.0.1//NONSGML v1.0//EN
CALSCALE:GREGORIAN
METHOD:PUBLISH
X-ORIGINAL-URL:https://thebelieversworshipcenter.org
X-WR-CALDESC:Events for The Believers Worship Center
REFRESH-INTERVAL;VALUE=DURATION:PT1H
X-Robots-Tag:noindex
X-PUBLISHED-TTL:PT1H
BEGIN:VTIMEZONE
TZID:UTC
BEGIN:STANDARD
TZOFFSETFROM:+0000
TZOFFSETTO:+0000
TZNAME:UTC
DTSTART:20250101T000000
END:STANDARD
END:VTIMEZONE
BEGIN:VEVENT
DTSTART;TZID=UTC:20250803T100000
DTEND;TZID=UTC:20250803T120000
DTSTAMP:20260421T092811
CREATED:20241201T033832Z
LAST-MODIFIED:20251215T180800Z
UID:10000822-1754215200-1754222400@thebelieversworshipcenter.org
SUMMARY:Sunday Services
DESCRIPTION:Join us for our Sunday service at 10:00 am at Dr. Henry A. Wise Jr\, High School\, 12650 Brooke Lane\, Upper Marlboro\, MD 20772.
URL:https://thebelieversworshipcenter.org/event/sunday-services/2025-08-03/
CATEGORIES:Worship
ATTACH;FMTTYPE=:
END:VEVENT
BEGIN:VEVENT
DTSTART;TZID=UTC:20250810T100000
DTEND;TZID=UTC:20250810T120000
DTSTAMP:20260421T092811
CREATED:20241201T033832Z
LAST-MODIFIED:20251215T180800Z
UID:10000823-1754820000-1754827200@thebelieversworshipcenter.org
SUMMARY:Sunday Services
DESCRIPTION:Join us for our Sunday service at 10:00 am at Dr. Henry A. Wise Jr\, High School\, 12650 Brooke Lane\, Upper Marlboro\, MD 20772.
URL:https://thebelieversworshipcenter.org/event/sunday-services/2025-08-10/
CATEGORIES:Worship
ATTACH;FMTTYPE=:
END:VEVENT
BEGIN:VEVENT
DTSTART;TZID=UTC:20250817T100000
DTEND;TZID=UTC:20250817T120000
DTSTAMP:20260421T092811
CREATED:20241201T033832Z
LAST-MODIFIED:20251215T180800Z
UID:10000824-1755424800-1755432000@thebelieversworshipcenter.org
SUMMARY:Sunday Services
DESCRIPTION:Join us for our Sunday service at 10:00 am at Dr. Henry A. Wise Jr\, High School\, 12650 Brooke Lane\, Upper Marlboro\, MD 20772.
URL:https://thebelieversworshipcenter.org/event/sunday-services/2025-08-17/
CATEGORIES:Worship
ATTACH;FMTTYPE=:
END:VEVENT
BEGIN:VEVENT
DTSTART;TZID=UTC:20250824T100000
DTEND;TZID=UTC:20250824T120000
DTSTAMP:20260421T092811
CREATED:20241201T033832Z
LAST-MODIFIED:20251215T180800Z
UID:10000825-1756029600-1756036800@thebelieversworshipcenter.org
SUMMARY:Sunday Services
DESCRIPTION:Join us for our Sunday service at 10:00 am at Dr. Henry A. Wise Jr\, High School\, 12650 Brooke Lane\, Upper Marlboro\, MD 20772.
URL:https://thebelieversworshipcenter.org/event/sunday-services/2025-08-24/
CATEGORIES:Worship
ATTACH;FMTTYPE=:
END:VEVENT
BEGIN:VEVENT
DTSTART;TZID=UTC:20250831T100000
DTEND;TZID=UTC:20250831T120000
DTSTAMP:20260421T092811
CREATED:20241201T033832Z
LAST-MODIFIED:20251215T180800Z
UID:10000826-1756634400-1756641600@thebelieversworshipcenter.org
SUMMARY:Sunday Services
DESCRIPTION:Join us for our Sunday service at 10:00 am at Dr. Henry A. Wise Jr\, High School\, 12650 Brooke Lane\, Upper Marlboro\, MD 20772.
URL:https://thebelieversworshipcenter.org/event/sunday-services/2025-08-31/
CATEGORIES:Worship
ATTACH;FMTTYPE=:
END:VEVENT
END:VCALENDAR