BEGIN:VCALENDAR
VERSION:2.0
PRODID:-//The Believers Worship Center - ECPv6.11.0.1//NONSGML v1.0//EN
CALSCALE:GREGORIAN
METHOD:PUBLISH
X-WR-CALNAME:The Believers Worship Center
X-ORIGINAL-URL:https://thebelieversworshipcenter.org
X-WR-CALDESC:Events for The Believers Worship Center
REFRESH-INTERVAL;VALUE=DURATION:PT1H
X-Robots-Tag:noindex
X-PUBLISHED-TTL:PT1H
BEGIN:VTIMEZONE
TZID:UTC
BEGIN:STANDARD
TZOFFSETFROM:+0000
TZOFFSETTO:+0000
TZNAME:UTC
DTSTART:20250101T000000
END:STANDARD
END:VTIMEZONE
BEGIN:VEVENT
DTSTART;TZID=UTC:20250202T100000
DTEND;TZID=UTC:20250202T120000
DTSTAMP:20260422T010857
CREATED:20241201T033832Z
LAST-MODIFIED:20251215T180800Z
UID:10000796-1738490400-1738497600@thebelieversworshipcenter.org
SUMMARY:Sunday Services
DESCRIPTION:Join us for our Sunday service at 10:00 am at Dr. Henry A. Wise Jr\, High School\, 12650 Brooke Lane\, Upper Marlboro\, MD 20772.
URL:https://thebelieversworshipcenter.org/event/sunday-services/2025-02-02/
CATEGORIES:Worship
ATTACH;FMTTYPE=:
END:VEVENT
BEGIN:VEVENT
DTSTART;TZID=UTC:20250209T100000
DTEND;TZID=UTC:20250209T120000
DTSTAMP:20260422T010857
CREATED:20241201T033832Z
LAST-MODIFIED:20251215T180800Z
UID:10000797-1739095200-1739102400@thebelieversworshipcenter.org
SUMMARY:Sunday Services
DESCRIPTION:Join us for our Sunday service at 10:00 am at Dr. Henry A. Wise Jr\, High School\, 12650 Brooke Lane\, Upper Marlboro\, MD 20772.
URL:https://thebelieversworshipcenter.org/event/sunday-services/2025-02-09/
CATEGORIES:Worship
ATTACH;FMTTYPE=:
END:VEVENT
BEGIN:VEVENT
DTSTART;TZID=UTC:20250216T100000
DTEND;TZID=UTC:20250216T120000
DTSTAMP:20260422T010857
CREATED:20241201T033832Z
LAST-MODIFIED:20251215T180800Z
UID:10000798-1739700000-1739707200@thebelieversworshipcenter.org
SUMMARY:Sunday Services
DESCRIPTION:Join us for our Sunday service at 10:00 am at Dr. Henry A. Wise Jr\, High School\, 12650 Brooke Lane\, Upper Marlboro\, MD 20772.
URL:https://thebelieversworshipcenter.org/event/sunday-services/2025-02-16/
CATEGORIES:Worship
ATTACH;FMTTYPE=:
END:VEVENT
BEGIN:VEVENT
DTSTART;TZID=UTC:20250223T100000
DTEND;TZID=UTC:20250223T120000
DTSTAMP:20260422T010857
CREATED:20241201T033832Z
LAST-MODIFIED:20251215T180800Z
UID:10000799-1740304800-1740312000@thebelieversworshipcenter.org
SUMMARY:Sunday Services
DESCRIPTION:Join us for our Sunday service at 10:00 am at Dr. Henry A. Wise Jr\, High School\, 12650 Brooke Lane\, Upper Marlboro\, MD 20772.
URL:https://thebelieversworshipcenter.org/event/sunday-services/2025-02-23/
CATEGORIES:Worship
ATTACH;FMTTYPE=:
END:VEVENT
END:VCALENDAR