BEGIN:VCALENDAR
VERSION:2.0
PRODID:-//The Believers Worship Center - ECPv6.11.0.1//NONSGML v1.0//EN
CALSCALE:GREGORIAN
METHOD:PUBLISH
X-WR-CALNAME:The Believers Worship Center
X-ORIGINAL-URL:https://thebelieversworshipcenter.org
X-WR-CALDESC:Events for The Believers Worship Center
REFRESH-INTERVAL;VALUE=DURATION:PT1H
X-Robots-Tag:noindex
X-PUBLISHED-TTL:PT1H
BEGIN:VTIMEZONE
TZID:UTC
BEGIN:STANDARD
TZOFFSETFROM:+0000
TZOFFSETTO:+0000
TZNAME:UTC
DTSTART:20240101T000000
END:STANDARD
END:VTIMEZONE
BEGIN:VEVENT
DTSTART;TZID=UTC:20241201T100000
DTEND;TZID=UTC:20241201T120000
DTSTAMP:20260422T073048
CREATED:20241201T033832Z
LAST-MODIFIED:20251215T180800Z
UID:10000787-1733047200-1733054400@thebelieversworshipcenter.org
SUMMARY:Sunday Services
DESCRIPTION:Join us for our Sunday service at 10:00 am at Dr. Henry A. Wise Jr\, High School\, 12650 Brooke Lane\, Upper Marlboro\, MD 20772.
URL:https://thebelieversworshipcenter.org/event/sunday-services/2024-12-01/
CATEGORIES:Worship
ATTACH;FMTTYPE=:
END:VEVENT
BEGIN:VEVENT
DTSTART;TZID=UTC:20241206T193000
DTEND;TZID=UTC:20241206T203000
DTSTAMP:20260422T073048
CREATED:20241201T044747Z
LAST-MODIFIED:20241220T171233Z
UID:10001051-1733513400-1733517000@thebelieversworshipcenter.org
SUMMARY:Bible Study
DESCRIPTION:Set your calendars every week and join us for Bible Study on Friday’s at 7:30 pm. Each week an in-depth study of God’s word will be facilitated by the Elders and Ministers of TBWC.  \n\n\n\nJoin Zoom Meeting (Meeting information may be updated every week): \n\n\n\nTopic: The Holy Spirit  \n\n\n\nhttps://us02web.zoom.us/j/86598890623?pwd=JBksTsflpY489sgnza98W1Pf7TpT0s.1 \n\n\n\nMeeting ID: 865 9889 0623Passcode: 493712
URL:https://thebelieversworshipcenter.org/event/bible-study/2024-12-06/
ATTACH;FMTTYPE=:
END:VEVENT
BEGIN:VEVENT
DTSTART;TZID=UTC:20241208T100000
DTEND;TZID=UTC:20241208T120000
DTSTAMP:20260422T073048
CREATED:20241201T033832Z
LAST-MODIFIED:20251215T180800Z
UID:10000788-1733652000-1733659200@thebelieversworshipcenter.org
SUMMARY:Sunday Services
DESCRIPTION:Join us for our Sunday service at 10:00 am at Dr. Henry A. Wise Jr\, High School\, 12650 Brooke Lane\, Upper Marlboro\, MD 20772.
URL:https://thebelieversworshipcenter.org/event/sunday-services/2024-12-08/
CATEGORIES:Worship
ATTACH;FMTTYPE=:
END:VEVENT
BEGIN:VEVENT
DTSTART;TZID=UTC:20241215T100000
DTEND;TZID=UTC:20241215T120000
DTSTAMP:20260422T073048
CREATED:20241201T033832Z
LAST-MODIFIED:20251215T180800Z
UID:10000789-1734256800-1734264000@thebelieversworshipcenter.org
SUMMARY:Sunday Services
DESCRIPTION:Join us for our Sunday service at 10:00 am at Dr. Henry A. Wise Jr\, High School\, 12650 Brooke Lane\, Upper Marlboro\, MD 20772.
URL:https://thebelieversworshipcenter.org/event/sunday-services/2024-12-15/
CATEGORIES:Worship
ATTACH;FMTTYPE=:
END:VEVENT
BEGIN:VEVENT
DTSTART;TZID=UTC:20241222T100000
DTEND;TZID=UTC:20241222T120000
DTSTAMP:20260422T073048
CREATED:20241201T033832Z
LAST-MODIFIED:20251215T180800Z
UID:10000790-1734861600-1734868800@thebelieversworshipcenter.org
SUMMARY:Sunday Services
DESCRIPTION:Join us for our Sunday service at 10:00 am at Dr. Henry A. Wise Jr\, High School\, 12650 Brooke Lane\, Upper Marlboro\, MD 20772.
URL:https://thebelieversworshipcenter.org/event/sunday-services/2024-12-22/
CATEGORIES:Worship
ATTACH;FMTTYPE=:
END:VEVENT
BEGIN:VEVENT
DTSTART;TZID=UTC:20241227T193000
DTEND;TZID=UTC:20241227T203000
DTSTAMP:20260422T073048
CREATED:20241220T171345Z
LAST-MODIFIED:20241227T204226Z
UID:10001312-1735327800-1735331400@thebelieversworshipcenter.org
SUMMARY:Bible Study
DESCRIPTION:Set your calendars every week and join us for Bible Study on Friday’s at 7:30 pm. Each week an in-depth study of God’s word will be facilitated by the Elders and Ministers of TBWC.  \n\n\n\nJoin Zoom Meeting (Meeting information may be updated every week): \n\n\n\nTopic: The Holy Spirit  \n\n\n\nhttps://us02web.zoom.us/j/88500212586?pwd=9SVaG9OP3vvdBFtxfbEAwufKj6DOcb.1 \n\n\n\nMeeting ID: 885 0021 2586 \n\n\n\nPasscode: 258223
URL:https://thebelieversworshipcenter.org/event/bible-study-2/
ATTACH;FMTTYPE=:
END:VEVENT
BEGIN:VEVENT
DTSTART;TZID=UTC:20241229T100000
DTEND;TZID=UTC:20241229T120000
DTSTAMP:20260422T073048
CREATED:20241201T033832Z
LAST-MODIFIED:20251215T180800Z
UID:10000791-1735466400-1735473600@thebelieversworshipcenter.org
SUMMARY:Sunday Services
DESCRIPTION:Join us for our Sunday service at 10:00 am at Dr. Henry A. Wise Jr\, High School\, 12650 Brooke Lane\, Upper Marlboro\, MD 20772.
URL:https://thebelieversworshipcenter.org/event/sunday-services/2024-12-29/
CATEGORIES:Worship
ATTACH;FMTTYPE=:
END:VEVENT
END:VCALENDAR